
BEGIN:VCALENDAR
VERSION:2.0
PRODID:-//EMLF - ECPv6.15.20//NONSGML v1.0//EN
CALSCALE:GREGORIAN
METHOD:PUBLISH
X-ORIGINAL-URL:https://emlf.org
X-WR-CALDESC:Events for EMLF
REFRESH-INTERVAL;VALUE=DURATION:PT1H
X-Robots-Tag:noindex
X-PUBLISHED-TTL:PT1H
BEGIN:VTIMEZONE
TZID:America/Kentucky/Louisville
BEGIN:DAYLIGHT
TZOFFSETFROM:-0500
TZOFFSETTO:-0400
TZNAME:EDT
DTSTART:20200308T070000
END:DAYLIGHT
BEGIN:STANDARD
TZOFFSETFROM:-0400
TZOFFSETTO:-0500
TZNAME:EST
DTSTART:20201101T060000
END:STANDARD
BEGIN:DAYLIGHT
TZOFFSETFROM:-0500
TZOFFSETTO:-0400
TZNAME:EDT
DTSTART:20210314T070000
END:DAYLIGHT
BEGIN:STANDARD
TZOFFSETFROM:-0400
TZOFFSETTO:-0500
TZNAME:EST
DTSTART:20211107T060000
END:STANDARD
BEGIN:DAYLIGHT
TZOFFSETFROM:-0500
TZOFFSETTO:-0400
TZNAME:EDT
DTSTART:20220313T070000
END:DAYLIGHT
BEGIN:STANDARD
TZOFFSETFROM:-0400
TZOFFSETTO:-0500
TZNAME:EST
DTSTART:20221106T060000
END:STANDARD
BEGIN:DAYLIGHT
TZOFFSETFROM:-0500
TZOFFSETTO:-0400
TZNAME:EDT
DTSTART:20230312T070000
END:DAYLIGHT
BEGIN:STANDARD
TZOFFSETFROM:-0400
TZOFFSETTO:-0500
TZNAME:EST
DTSTART:20231105T060000
END:STANDARD
BEGIN:DAYLIGHT
TZOFFSETFROM:-0500
TZOFFSETTO:-0400
TZNAME:EDT
DTSTART:20240310T070000
END:DAYLIGHT
BEGIN:STANDARD
TZOFFSETFROM:-0400
TZOFFSETTO:-0500
TZNAME:EST
DTSTART:20241103T060000
END:STANDARD
BEGIN:DAYLIGHT
TZOFFSETFROM:-0500
TZOFFSETTO:-0400
TZNAME:EDT
DTSTART:20250309T070000
END:DAYLIGHT
BEGIN:STANDARD
TZOFFSETFROM:-0400
TZOFFSETTO:-0500
TZNAME:EST
DTSTART:20251102T060000
END:STANDARD
BEGIN:DAYLIGHT
TZOFFSETFROM:-0500
TZOFFSETTO:-0400
TZNAME:EDT
DTSTART:20260308T070000
END:DAYLIGHT
BEGIN:STANDARD
TZOFFSETFROM:-0400
TZOFFSETTO:-0500
TZNAME:EST
DTSTART:20261101T060000
END:STANDARD
END:VTIMEZONE
BEGIN:VTIMEZONE
TZID:America/New_York
BEGIN:DAYLIGHT
TZOFFSETFROM:-0500
TZOFFSETTO:-0400
TZNAME:EDT
DTSTART:20200308T070000
END:DAYLIGHT
BEGIN:STANDARD
TZOFFSETFROM:-0400
TZOFFSETTO:-0500
TZNAME:EST
DTSTART:20201101T060000
END:STANDARD
BEGIN:DAYLIGHT
TZOFFSETFROM:-0500
TZOFFSETTO:-0400
TZNAME:EDT
DTSTART:20210314T070000
END:DAYLIGHT
BEGIN:STANDARD
TZOFFSETFROM:-0400
TZOFFSETTO:-0500
TZNAME:EST
DTSTART:20211107T060000
END:STANDARD
BEGIN:DAYLIGHT
TZOFFSETFROM:-0500
TZOFFSETTO:-0400
TZNAME:EDT
DTSTART:20220313T070000
END:DAYLIGHT
BEGIN:STANDARD
TZOFFSETFROM:-0400
TZOFFSETTO:-0500
TZNAME:EST
DTSTART:20221106T060000
END:STANDARD
BEGIN:DAYLIGHT
TZOFFSETFROM:-0500
TZOFFSETTO:-0400
TZNAME:EDT
DTSTART:20230312T070000
END:DAYLIGHT
BEGIN:STANDARD
TZOFFSETFROM:-0400
TZOFFSETTO:-0500
TZNAME:EST
DTSTART:20231105T060000
END:STANDARD
END:VTIMEZONE
BEGIN:VEVENT
DTSTART;VALUE=DATE:20251020
DTEND;VALUE=DATE:20251023
DTSTAMP:20260422T203819
CREATED:20250522T195959Z
LAST-MODIFIED:20250522T200418Z
UID:34306-1760918400-1761177599@emlf.org
SUMMARY:42nd Annual Oil and Gas Law Short Course
DESCRIPTION:
URL:https://emlf.org/event/42nd-annual-oil-and-gas-law-short-course/
LOCATION:The Westin Westminster\, 10600 Westminster Boulevard\, Westminster\, CO\, 80020\, United States
CATEGORIES:2025,2025,Oil & Gas,Short Course
ATTACH;FMTTYPE=image/jpeg:https://emlf.org/wp-content/uploads/2025/05/FNREL_Pic.jpg
ORGANIZER;CN="The Foundation for Natural Resources and Energy Law":MAILTO:info@fnrel.org
END:VEVENT
BEGIN:VEVENT
DTSTART;VALUE=DATE:20241021
DTEND;VALUE=DATE:20241026
DTSTAMP:20260422T203819
CREATED:20240412T205158Z
LAST-MODIFIED:20240807T201322Z
UID:30181-1729468800-1729900799@emlf.org
SUMMARY:41st Annual Oil & Gas Law Short Course
DESCRIPTION:
URL:https://emlf.org/event/oil-and-gas-short-course/
LOCATION:CO
CATEGORIES:2024,Conferences,Institutes & Symposiums,Oil & Gas,Short Course
END:VEVENT
BEGIN:VEVENT
DTSTART;VALUE=DATE:20231116
DTEND;VALUE=DATE:20231117
DTSTAMP:20260422T203819
CREATED:20231006T132541Z
LAST-MODIFIED:20231020T141151Z
UID:27884-1700092800-1700179199@emlf.org
SUMMARY:Virtual Special Institute on Carbon Capture
DESCRIPTION:Join the Energy & Mineral Law Foundation for an in depth virtual discussion of carbon capture legal\, financial\, and technical issues. Click the buttons above to see the full agenda and speaker biographies. \n\n\n\n\nEMLF will apply for continuing legal education credit in the amount of 350 minutes in the following states: Kentucky\, Ohio\, Oklahoma\, Pennsylvania\, Tennessee\, Texas\, Virginia\, and West Virginia.  To inquire about additional states\, please e-mail Dawn at dawn@emlf.org. \nThis conference will be held virtually.  You will receive a link to access the conference by 12:00 p.m. on November 15.  Registrants will also have access to the sessions on demand after the event.
URL:https://emlf.org/event/virtual-special-institute-on-carbon-capture/
LOCATION:Virtual
CATEGORIES:2023,Institutes & Symposiums,Short Course,Virtual
ATTACH;FMTTYPE=image/jpeg:https://emlf.org/wp-content/uploads/2023/10/Carbon-Capture1.jpg
END:VEVENT
BEGIN:VEVENT
DTSTART;TZID=America/Kentucky/Louisville:20231016T080000
DTEND;TZID=America/Kentucky/Louisville:20231020T170000
DTSTAMP:20260422T203819
CREATED:20230519T161138Z
LAST-MODIFIED:20230519T161138Z
UID:25270-1697443200-1697821200@emlf.org
SUMMARY:40th Annual Oil & Gas Law Short Course
DESCRIPTION:Click here for more information.
URL:https://emlf.org/event/40th-annual-oil-gas-law-short-course/
LOCATION:The Westin Westminster\, 10600 Westminster Boulevard\, Westminster\, CO\, 80020\, United States
CATEGORIES:2023,Conferences,Institutes & Symposiums,Oil & Gas,Short Course
ATTACH;FMTTYPE=image/png:https://emlf.org/wp-content/uploads/2023/05/Screenshot-2023-05-19-at-11.55.36-AM-1.png
END:VEVENT
BEGIN:VEVENT
DTSTART;TZID=America/Kentucky/Louisville:20230425T120000
DTEND;TZID=America/Kentucky/Louisville:20230425T150000
DTSTAMP:20260422T203819
CREATED:20230419T202050Z
LAST-MODIFIED:20230419T203838Z
UID:24910-1682424000-1682434800@emlf.org
SUMMARY:West Virginia Workshop
DESCRIPTION:Get a Group Discount! Register 10 or more attendees from the same organization and receive a 10% discount. For more information about group registration\, e-mail anna@emlf.org. \n  \n\n\nJoin EMLF’s Charleston\, WV Workshop\, April 25 2023\, 12-3 p.m. EDT at the Offices of Jackson Kelly\, 500 Lee St E # 1600 in Charleston. \nConnect with colleagues over a delicious lunch while earning CLEs. \nThis workshop will feature an hour of West Virginia energy law updates followed by an hour of ethics that explores the intersection of lawyers\, politics\, and the Model Rules. \nClick here for more about the workshop \nWest Virginia Workshop CLE credit approved for 2.2 total (1.2 Ethics) West Virginia \nNetworking Lunch Sponsored By: \n\n\n\n \n\n\n\n\n\n\n\n\n\n\n\n\n 
URL:https://emlf.org/event/24910/
LOCATION:CO
CATEGORIES:2023,Conferences,Institutes & Symposiums,Oil & Gas,Short Course
ATTACH;FMTTYPE=image/jpeg:https://emlf.org/wp-content/uploads/2023/03/AdobeStock_481189647-scaled.jpeg
END:VEVENT
BEGIN:VEVENT
DTSTART;TZID=America/Kentucky/Louisville:20230418T120000
DTEND;TZID=America/Kentucky/Louisville:20230418T120000
DTSTAMP:20260422T203819
CREATED:20230407T173627Z
LAST-MODIFIED:20230407T173826Z
UID:24199-1681819200-1681819200@emlf.org
SUMMARY:EMLF Spring Workshops in PA & WV
DESCRIPTION:EMLF is is bringing legal education to you this spring with workshops in Pittsburgh\, PA and Charleston\, WV! \nConnect with colleagues over a delicious lunch while earning CLEs. \nRegister for EMLF’s Pittsburgh\, PA Workshop\, April 18\, 2023\, 12-3 p.m. EDT at the Union Trust Building\, 501 Grant Street in Pittsburgh. We’ll do an update on Pennsylvania energy law issues with an hour of ethics CLE that explores the intersection of lawyers\, politics\, and the Model Rules. \n\n\n\n\n\n\nClick here for the Pittsburgh agenda and registration. \nPittsburgh Workshop CLE credit approved for 2.0 (1 Ethics) Pennsylvania\, 2.0 (1 Ethics) Ohio\, 2.4 (1.2 Ethics) West Virginia.\n \n\n\n\n\n\n\n\n\n\n\n\n\nPittsburgh Networking Lunch Sponsored By: \n\n\n\n\n\n\n\n\n\n\n\n\n\nRegister for EMLF’s West Virginia Workshop\, April 25\, 2023\, 12-3 p.m. EDT at the offices of Jackson Kelly\, 500 Lee St E #1600\, Charleston\, WV 25301. \nThe workshop will feature an hour of West Virginia energy law updates followed by an hour of ethics that explores the intersection of lawyers\, politics\, and the Model Rules. \nClick here for the West Virginia agenda and registration. \nWest Virginia Workshop CLE credit approved for 2.2 total credits (1.2) ethics in West Virginia.\n \nWest Virginia Networking Lunch Sponsored by: \n \n\n\n\n\n\n\n\n\n\n\n\n\n\n\nGet a Group Discount! Register 10 or more attendees for either event from the same organization and receive a 10% discount. For more information about group registration\, e-mail anna@emlf.org.
URL:https://emlf.org/event/emlf-spring-workshops-pa-wv/
LOCATION:CO
CATEGORIES:2023,Short Course
ATTACH;FMTTYPE=image/jpeg:https://emlf.org/wp-content/uploads/2023/04/ALL-WORKSHOPS3.jpg
END:VEVENT
BEGIN:VEVENT
DTSTART;VALUE=DATE:20220427
DTEND;VALUE=DATE:20220429
DTSTAMP:20260422T203819
CREATED:20210719T182341Z
LAST-MODIFIED:20220330T191124Z
UID:13811-1651017600-1651190399@emlf.org
SUMMARY:AAPL & EMLF's Joint Land Institute
DESCRIPTION:Visit the Joint Land Institute Hub Page\n			\n				\n				\n				\n				\n				AAPL & EMLF’s Joint Land Institute
URL:https://emlf.org/event/aapl-emlfs-joint-land-institute/
LOCATION:Pittsburgh Airport Marriott\, 777 Aten Rd\, Coraopolis\, PA\, 15108\, United States
CATEGORIES:2022,Conferences,Institutes & Symposiums,Oil & Gas,Short Course
END:VEVENT
BEGIN:VEVENT
DTSTART;VALUE=DATE:20211018
DTEND;VALUE=DATE:20211023
DTSTAMP:20260422T203819
CREATED:20210305T184639Z
LAST-MODIFIED:20210719T190628Z
UID:10710-1634515200-1634947199@emlf.org
SUMMARY:Oil & Gas Law Short Course @ The Westin Westminster
DESCRIPTION:EMLF will hold an Oil & Gas Law Short Course on October 18-22\, 2021 co-sponsored by Rocky Mountain Mineral Law Foundation and the Institute for Energy Law\, at the The Westin Westminster in Westminster\, Colorado. Save the date—more details to come.
URL:https://emlf.org/event/oil-gas-law-short-course-the-westin-westminster/
LOCATION:The Westin Westminster\, 10600 Westminster Boulevard\, Westminster\, CO\, 80020\, United States
CATEGORIES:Oil & Gas,Short Course
ATTACH;FMTTYPE=image/jpeg:https://emlf.org/wp-content/uploads/2021/03/AdobeStock_240117373-scaled.jpeg
END:VEVENT
BEGIN:VEVENT
DTSTART;VALUE=DATE:20210901
DTEND;VALUE=DATE:20210903
DTSTAMP:20260422T203819
CREATED:20210628T134105Z
LAST-MODIFIED:20210819T135327Z
UID:13646-1630454400-1630627199@emlf.org
SUMMARY:12th Law of Shale Plays Conference in Pittsburgh (CANCELED)
DESCRIPTION:Save the date for the 12th Law of Shale Plays Conference\, which is hosted by the Institute for Energy Law and the Energy & Mineral Law Foundation. The conference will be held in-person at The Westin Pittsburgh and feature a full day of programming on September 1st and a half-day on September 2nd. The schedule features legal issues related to the shale plays in the United States and will soon be available on our website. The conference brings together clients\, attorneys\, professional landmen\, and other professionals to learn and discuss important cases\, concepts\, and trends. \nMark your calendar now and join us as we get back together in person for this popular conference. If you plan to attend\, you can also register and book your hotel room now.
URL:https://emlf.org/event/save-the-date-12th-law-of-shale-plays-conference-in-pittsburgh/
LOCATION:The Westin Pittsburgh\, 1000 Penn Ave\, Pittsburgh\, 15222\, United States
CATEGORIES:Oil & Gas,Short Course
ATTACH;FMTTYPE=image/png:https://emlf.org/wp-content/uploads/2021/06/Screen-Shot-2021-06-28-at-9.21.19-AM-1.png
END:VEVENT
BEGIN:VEVENT
DTSTART;VALUE=DATE:20210831
DTEND;VALUE=DATE:20210901
DTSTAMP:20260422T203819
CREATED:20210603T210356Z
LAST-MODIFIED:20210819T135432Z
UID:13524-1630368000-1630454399@emlf.org
SUMMARY:Petrochemicals Update (CANCELED)
DESCRIPTION:Petrochemicals Update\nAugust 31\, 2021\, Pittsburgh\, PA
URL:https://emlf.org/event/emlf-presents-a-petrochemicals-update/
LOCATION:Embassy Suites by Hilton – Pittsburgh Downtown\, 535 Smithfield Street\, Pittsburgh\, PA\, 15222\, United States
CATEGORIES:Conferences,Oil & Gas,Short Course
ATTACH;FMTTYPE=image/png:https://emlf.org/wp-content/uploads/2021/06/Screen-Shot-2021-06-29-at-10.34.57-AM-e1637611182190.png
END:VEVENT
END:VCALENDAR