
BEGIN:VCALENDAR
VERSION:2.0
PRODID:-//EMLF - ECPv6.15.20//NONSGML v1.0//EN
CALSCALE:GREGORIAN
METHOD:PUBLISH
X-WR-CALNAME:EMLF
X-ORIGINAL-URL:https://emlf.org
X-WR-CALDESC:Events for EMLF
REFRESH-INTERVAL;VALUE=DURATION:PT1H
X-Robots-Tag:noindex
X-PUBLISHED-TTL:PT1H
BEGIN:VTIMEZONE
TZID:America/Kentucky/Louisville
BEGIN:DAYLIGHT
TZOFFSETFROM:-0500
TZOFFSETTO:-0400
TZNAME:EDT
DTSTART:20200308T070000
END:DAYLIGHT
BEGIN:STANDARD
TZOFFSETFROM:-0400
TZOFFSETTO:-0500
TZNAME:EST
DTSTART:20201101T060000
END:STANDARD
BEGIN:DAYLIGHT
TZOFFSETFROM:-0500
TZOFFSETTO:-0400
TZNAME:EDT
DTSTART:20210314T070000
END:DAYLIGHT
BEGIN:STANDARD
TZOFFSETFROM:-0400
TZOFFSETTO:-0500
TZNAME:EST
DTSTART:20211107T060000
END:STANDARD
BEGIN:DAYLIGHT
TZOFFSETFROM:-0500
TZOFFSETTO:-0400
TZNAME:EDT
DTSTART:20220313T070000
END:DAYLIGHT
BEGIN:STANDARD
TZOFFSETFROM:-0400
TZOFFSETTO:-0500
TZNAME:EST
DTSTART:20221106T060000
END:STANDARD
BEGIN:DAYLIGHT
TZOFFSETFROM:-0500
TZOFFSETTO:-0400
TZNAME:EDT
DTSTART:20230312T070000
END:DAYLIGHT
BEGIN:STANDARD
TZOFFSETFROM:-0400
TZOFFSETTO:-0500
TZNAME:EST
DTSTART:20231105T060000
END:STANDARD
BEGIN:DAYLIGHT
TZOFFSETFROM:-0500
TZOFFSETTO:-0400
TZNAME:EDT
DTSTART:20240310T070000
END:DAYLIGHT
BEGIN:STANDARD
TZOFFSETFROM:-0400
TZOFFSETTO:-0500
TZNAME:EST
DTSTART:20241103T060000
END:STANDARD
BEGIN:DAYLIGHT
TZOFFSETFROM:-0500
TZOFFSETTO:-0400
TZNAME:EDT
DTSTART:20250309T070000
END:DAYLIGHT
BEGIN:STANDARD
TZOFFSETFROM:-0400
TZOFFSETTO:-0500
TZNAME:EST
DTSTART:20251102T060000
END:STANDARD
BEGIN:DAYLIGHT
TZOFFSETFROM:-0500
TZOFFSETTO:-0400
TZNAME:EDT
DTSTART:20260308T070000
END:DAYLIGHT
BEGIN:STANDARD
TZOFFSETFROM:-0400
TZOFFSETTO:-0500
TZNAME:EST
DTSTART:20261101T060000
END:STANDARD
END:VTIMEZONE
BEGIN:VTIMEZONE
TZID:America/New_York
BEGIN:DAYLIGHT
TZOFFSETFROM:-0500
TZOFFSETTO:-0400
TZNAME:EDT
DTSTART:20210314T070000
END:DAYLIGHT
BEGIN:STANDARD
TZOFFSETFROM:-0400
TZOFFSETTO:-0500
TZNAME:EST
DTSTART:20211107T060000
END:STANDARD
BEGIN:DAYLIGHT
TZOFFSETFROM:-0500
TZOFFSETTO:-0400
TZNAME:EDT
DTSTART:20220313T070000
END:DAYLIGHT
BEGIN:STANDARD
TZOFFSETFROM:-0400
TZOFFSETTO:-0500
TZNAME:EST
DTSTART:20221106T060000
END:STANDARD
BEGIN:DAYLIGHT
TZOFFSETFROM:-0500
TZOFFSETTO:-0400
TZNAME:EDT
DTSTART:20230312T070000
END:DAYLIGHT
BEGIN:STANDARD
TZOFFSETFROM:-0400
TZOFFSETTO:-0500
TZNAME:EST
DTSTART:20231105T060000
END:STANDARD
END:VTIMEZONE
BEGIN:VEVENT
DTSTART;TZID=America/Kentucky/Louisville:20251007T080000
DTEND;TZID=America/Kentucky/Louisville:20251009T170000
DTSTAMP:20260425T080156
CREATED:20250226T140546Z
LAST-MODIFIED:20250725T221644Z
UID:33221-1759824000-1760029200@emlf.org
SUMMARY:Fall Symposium
DESCRIPTION:Reserve Your Room for the Fall SymposiumJoin us for an inspiring experience filled with knowledge and networking opportunities. Secure your spot today and be part of the conversation that shapes the future. \n				Book Now\n			\n			\n				\n				\n				\n				\n				\n				\n				\n				\n				\n				To book by phone: Call 800.233.1234 and ask for Code G-LAWE.
URL:https://emlf.org/event/fall-symposium-3/
LOCATION:Central Bank Center\, 430 W Vine St.\, Lexington\, KY\, 40507\, United States
CATEGORIES:2025,Institutes & Symposiums,Oil & Gas
ATTACH;FMTTYPE=image/jpeg:https://emlf.org/wp-content/uploads/2025/02/Fall-Symposium1-1.jpg
ORGANIZER;CN="Energy & Mineral Law Foundation":MAILTO:dawn@emlf.org
END:VEVENT
BEGIN:VEVENT
DTSTART;TZID=America/Kentucky/Louisville:20250331T010000
DTEND;TZID=America/Kentucky/Louisville:20250331T010000
DTSTAMP:20260425T080156
CREATED:20250304T185748Z
LAST-MODIFIED:20250304T185748Z
UID:33376-1743382800-1743382800@emlf.org
SUMMARY:Virtual Planning Meeting for the 16th Appalachia Energy Law Conference
DESCRIPTION:
URL:https://emlf.org/event/virtual-planning-meeting-for-the-16th-appalachia-energy-law-conference/
LOCATION:KY
CATEGORIES:2025,Conferences,Institutes & Symposiums,Oil & Gas
END:VEVENT
BEGIN:VEVENT
DTSTART;VALUE=DATE:20241021
DTEND;VALUE=DATE:20241026
DTSTAMP:20260425T080156
CREATED:20240412T205158Z
LAST-MODIFIED:20240807T201322Z
UID:30181-1729468800-1729900799@emlf.org
SUMMARY:41st Annual Oil & Gas Law Short Course
DESCRIPTION:
URL:https://emlf.org/event/oil-and-gas-short-course/
LOCATION:KY
CATEGORIES:2024,Conferences,Institutes & Symposiums,Oil & Gas,Short Course
END:VEVENT
BEGIN:VEVENT
DTSTART;TZID=America/Kentucky/Louisville:20241015T080000
DTEND;TZID=America/Kentucky/Louisville:20241017T170000
DTSTAMP:20260425T080156
CREATED:20240126T181109Z
LAST-MODIFIED:20240924T175751Z
UID:29058-1728979200-1729184400@emlf.org
SUMMARY:Fall Symposium
DESCRIPTION:For almost fifty years\, energy attorneys have gathered in Lexington\, Kentucky\, and this year’s Fall Symposium will once again be held at the Central Bank Convention Center in downtown Lexington\, October 15-17\, 2024. This year’s conference\, chaired by Karen Greenwell (Wyatt Tarrant & Combs)\, Guy Hensley (Warrior Met Coal)\, and Larry Skrzysowski (EQT)\, will also feature a moot court competition held in conjunction with the Appalachian School of Law. To join the planning committee or volunteer as a moot court judge\, e-mail Anna at anna@emlf.org. \n			\n				\n				\n				\n				\n				AccomodationsCall in reservations: \nCall 800.233.1234 \n				Contact Hyatt
URL:https://emlf.org/event/fall-symposium-2/
LOCATION:Central Bank Center\, 430 W Vine St.\, Lexington\, KY\, 40507\, United States
CATEGORIES:2024,Institutes & Symposiums,Oil & Gas
END:VEVENT
BEGIN:VEVENT
DTSTART;VALUE=DATE:20240905
DTEND;VALUE=DATE:20240906
DTSTAMP:20260425T080156
CREATED:20240412T204354Z
LAST-MODIFIED:20240819T143535Z
UID:30175-1725494400-1725580799@emlf.org
SUMMARY:Appalachia Energy Law Conference
DESCRIPTION:
URL:https://emlf.org/event/appalachian-energy-law-conference/
LOCATION:KY
CATEGORIES:2024,Conferences,Institutes & Symposiums,Oil & Gas
END:VEVENT
BEGIN:VEVENT
DTSTART;TZID=America/Kentucky/Louisville:20240529T080000
DTEND;TZID=America/Kentucky/Louisville:20240531T170000
DTSTAMP:20260425T080156
CREATED:20240412T204217Z
LAST-MODIFIED:20240412T204841Z
UID:30171-1716969600-1717174800@emlf.org
SUMMARY:Natural Resources Law Teachers Institute
DESCRIPTION:
URL:https://emlf.org/event/natural-resources-law-teachers-institute/
LOCATION:KY
CATEGORIES:2024,Conferences,Institutes & Symposiums,Oil & Gas
END:VEVENT
BEGIN:VEVENT
DTSTART;VALUE=DATE:20231116
DTEND;VALUE=DATE:20231117
DTSTAMP:20260425T080156
CREATED:20231006T132541Z
LAST-MODIFIED:20231020T141151Z
UID:27884-1700092800-1700179199@emlf.org
SUMMARY:Virtual Special Institute on Carbon Capture
DESCRIPTION:Join the Energy & Mineral Law Foundation for an in depth virtual discussion of carbon capture legal\, financial\, and technical issues. Click the buttons above to see the full agenda and speaker biographies. \n\n\n\n\nEMLF will apply for continuing legal education credit in the amount of 350 minutes in the following states: Kentucky\, Ohio\, Oklahoma\, Pennsylvania\, Tennessee\, Texas\, Virginia\, and West Virginia.  To inquire about additional states\, please e-mail Dawn at dawn@emlf.org. \nThis conference will be held virtually.  You will receive a link to access the conference by 12:00 p.m. on November 15.  Registrants will also have access to the sessions on demand after the event.
URL:https://emlf.org/event/virtual-special-institute-on-carbon-capture/
LOCATION:Virtual
CATEGORIES:2023,Institutes & Symposiums,Short Course,Virtual
ATTACH;FMTTYPE=image/jpeg:https://emlf.org/wp-content/uploads/2023/10/Carbon-Capture1.jpg
END:VEVENT
BEGIN:VEVENT
DTSTART;TZID=America/Kentucky/Louisville:20231016T080000
DTEND;TZID=America/Kentucky/Louisville:20231020T170000
DTSTAMP:20260425T080156
CREATED:20230519T161138Z
LAST-MODIFIED:20230519T161138Z
UID:25270-1697443200-1697821200@emlf.org
SUMMARY:40th Annual Oil & Gas Law Short Course
DESCRIPTION:Click here for more information.
URL:https://emlf.org/event/40th-annual-oil-gas-law-short-course/
LOCATION:The Westin Westminster\, 10600 Westminster Boulevard\, Westminster\, CO\, 80020\, United States
CATEGORIES:2023,Conferences,Institutes & Symposiums,Oil & Gas,Short Course
ATTACH;FMTTYPE=image/png:https://emlf.org/wp-content/uploads/2023/05/Screenshot-2023-05-19-at-11.55.36-AM-1.png
END:VEVENT
BEGIN:VEVENT
DTSTART;TZID=America/Kentucky/Louisville:20231010T080000
DTEND;TZID=America/Kentucky/Louisville:20231012T170000
DTSTAMP:20260425T080156
CREATED:20230323T151655Z
LAST-MODIFIED:20231004T204712Z
UID:24298-1696924800-1697130000@emlf.org
SUMMARY:2023 Fall Symposium
DESCRIPTION:The Fall Symposium will be held at Central Bank Center in Lexington! \nClick here to see the full agenda and register.  \n 
URL:https://emlf.org/event/new-location-for-the-2023-fall-symposium/
LOCATION:Central Bank Center\, 430 W Vine St.\, Lexington\, KY\, 40507\, United States
CATEGORIES:2023,Institutes & Symposiums,Oil & Gas
ATTACH;FMTTYPE=image/png:https://emlf.org/wp-content/uploads/2023/03/Screenshot-2023-03-23-at-11.18.59-AM.png
END:VEVENT
BEGIN:VEVENT
DTSTART;VALUE=DATE:20230907
DTEND;VALUE=DATE:20230908
DTSTAMP:20260425T080156
CREATED:20230713T211615Z
LAST-MODIFIED:20230713T211640Z
UID:26437-1694044800-1694131199@emlf.org
SUMMARY:14th Appalachia Energy Law Conference
DESCRIPTION:Registration is now open for the 14th Appalachia Energy Law Conference\, which is hosted by the Institute for Energy Law and the Energy & Mineral Law Foundation. The conference will occur September 7th at the Omni William Penn Hotel\, with a welcome reception on September 6th. \nThis conference brings together many legal leaders in Appalachian energy production. The conference features speakers from Ascent Resources\, Coterra Energy\, EQT\, PennEnergyResources\, People Natural Gas\, PJM\, and Range Resources. Register now and book your discounted hotel room. \nClick here for registration\, hotel reservations and more information.
URL:https://emlf.org/event/14th-appalachia-energy-law-conference/
LOCATION:The Westin Pittsburgh\, 1000 Penn Ave\, Pittsburgh\, 15222\, United States
CATEGORIES:2023,Conferences,Institutes & Symposiums,Oil & Gas
ATTACH;FMTTYPE=image/png:https://emlf.org/wp-content/uploads/2023/07/appalachia.png
END:VEVENT
BEGIN:VEVENT
DTSTART;VALUE=DATE:20230618
DTEND;VALUE=DATE:20230621
DTSTAMP:20260425T080156
CREATED:20220419T233057Z
LAST-MODIFIED:20230523T174424Z
UID:19606-1687046400-1687305599@emlf.org
SUMMARY:44th Annual Institute
DESCRIPTION:Register here for the 44th Annual Institute. \nReserve your room  at the Charleston Place online by May 24:  https://be.synxis.com/?adult=1&chain=12211&child=0&currency=USD&filter=&group=230617EMLF&hotel=3508 \nBy Telephone:  (800) 611-5545 (refer to Energy & Mineral Law Foundation) \nOr Email:  reservations@charlestonplace.com
URL:https://emlf.org/event/44th-annual-institute/
LOCATION:Charleston\, SC
CATEGORIES:2023,Conferences,Institutes & Symposiums
ATTACH;FMTTYPE=image/jpeg:https://emlf.org/wp-content/uploads/2023/05/AI-Registration-is-Open.jpg
END:VEVENT
BEGIN:VEVENT
DTSTART;TZID=America/Kentucky/Louisville:20230425T120000
DTEND;TZID=America/Kentucky/Louisville:20230425T150000
DTSTAMP:20260425T080156
CREATED:20230419T202050Z
LAST-MODIFIED:20230419T203838Z
UID:24910-1682424000-1682434800@emlf.org
SUMMARY:West Virginia Workshop
DESCRIPTION:Get a Group Discount! Register 10 or more attendees from the same organization and receive a 10% discount. For more information about group registration\, e-mail anna@emlf.org. \n  \n\n\nJoin EMLF’s Charleston\, WV Workshop\, April 25 2023\, 12-3 p.m. EDT at the Offices of Jackson Kelly\, 500 Lee St E # 1600 in Charleston. \nConnect with colleagues over a delicious lunch while earning CLEs. \nThis workshop will feature an hour of West Virginia energy law updates followed by an hour of ethics that explores the intersection of lawyers\, politics\, and the Model Rules. \nClick here for more about the workshop \nWest Virginia Workshop CLE credit approved for 2.2 total (1.2 Ethics) West Virginia \nNetworking Lunch Sponsored By: \n\n\n\n \n\n\n\n\n\n\n\n\n\n\n\n\n 
URL:https://emlf.org/event/24910/
LOCATION:KY
CATEGORIES:2023,Conferences,Institutes & Symposiums,Oil & Gas,Short Course
ATTACH;FMTTYPE=image/jpeg:https://emlf.org/wp-content/uploads/2023/03/AdobeStock_481189647-scaled.jpeg
END:VEVENT
BEGIN:VEVENT
DTSTART;VALUE=DATE:20221011
DTEND;VALUE=DATE:20221014
DTSTAMP:20260425T080156
CREATED:20211214T201443Z
LAST-MODIFIED:20220824T161616Z
UID:17091-1665446400-1665705599@emlf.org
SUMMARY:Fall Symposium
DESCRIPTION:
URL:https://emlf.org/event/fall-symposium/
LOCATION:Hilton Downton Lexington\, 369 West Vine Street\, Lexington\, KY\, 40507\, United States
CATEGORIES:2022,Conferences,Institutes & Symposiums,Oil & Gas
ATTACH;FMTTYPE=image/png:https://emlf.org/wp-content/uploads/2021/12/Screen-Shot-2022-07-13-at-9.53.14-AM.png
END:VEVENT
BEGIN:VEVENT
DTSTART;VALUE=DATE:20220920
DTEND;VALUE=DATE:20220922
DTSTAMP:20260425T080156
CREATED:20211214T185020Z
LAST-MODIFIED:20220812T190821Z
UID:17074-1663632000-1663804799@emlf.org
SUMMARY:Register Today for EMLF's Safety Seminar
DESCRIPTION:
URL:https://emlf.org/event/safety-seminar/
LOCATION:KY
CATEGORIES:2022,Conferences,Institutes & Symposiums,Oil & Gas
ATTACH;FMTTYPE=image/png:https://emlf.org/wp-content/uploads/2022/07/Screen-Shot-2022-07-11-at-3.24.53-PM.png
END:VEVENT
BEGIN:VEVENT
DTSTART;VALUE=DATE:20220612
DTEND;VALUE=DATE:20220615
DTSTAMP:20260425T080156
CREATED:20211111T163216Z
LAST-MODIFIED:20220603T005750Z
UID:16616-1654992000-1655251199@emlf.org
SUMMARY:EMLF's 43rd Annual Institute
DESCRIPTION:Join EMLF for the 43rd Annual Institute at gorgeous Amelia Island June 12-14\, 2022. \n \n 
URL:https://emlf.org/event/emlfs-43rd-annual-institute/
LOCATION:KY
CATEGORIES:2022,Conferences,Institutes & Symposiums
END:VEVENT
BEGIN:VEVENT
DTSTART;VALUE=DATE:20220427
DTEND;VALUE=DATE:20220429
DTSTAMP:20260425T080156
CREATED:20210719T182341Z
LAST-MODIFIED:20220330T191124Z
UID:13811-1651017600-1651190399@emlf.org
SUMMARY:AAPL & EMLF's Joint Land Institute
DESCRIPTION:Visit the Joint Land Institute Hub Page\n			\n				\n				\n				\n				\n				AAPL & EMLF’s Joint Land Institute
URL:https://emlf.org/event/aapl-emlfs-joint-land-institute/
LOCATION:Pittsburgh Airport Marriott\, 777 Aten Rd\, Coraopolis\, PA\, 15108\, United States
CATEGORIES:2022,Conferences,Institutes & Symposiums,Oil & Gas,Short Course
END:VEVENT
BEGIN:VEVENT
DTSTART;VALUE=DATE:20211012
DTEND;VALUE=DATE:20211015
DTSTAMP:20260425T080156
CREATED:20210305T183531Z
LAST-MODIFIED:20210908T214214Z
UID:10704-1633996800-1634255999@emlf.org
SUMMARY:Fall Symposium @ Lexington \, KY
DESCRIPTION:This year\, EMLF’s Fall Symposium will be held October 12-14\, 2021 in Lexington\, Kentucky. Formerly known as the Kentucky Mineral Law Conference\, the Fall Symposium has been held in Lexington\, Kentucky for 45 years. The Fall Symposium endeavors to focus on practical legal issues for energy law practitioners including the effects of statutory and regulatory changes\, emerging trends in commercial transactions and financing\, ethics\, and more.\n\n\n\n \n\n 
URL:https://emlf.org/event/fall-symposium-lexington-ky/
LOCATION:Hilton Downton Lexington\, 369 West Vine Street\, Lexington\, KY\, 40507\, United States
CATEGORIES:Institutes & Symposiums
ATTACH;FMTTYPE=image/jpeg:https://emlf.org/wp-content/uploads/2021/03/AdobeStock_270874621-scaled.jpeg
END:VEVENT
BEGIN:VEVENT
DTSTART;VALUE=DATE:20210620
DTEND;VALUE=DATE:20210623
DTSTAMP:20260425T080156
CREATED:20210305T175749Z
LAST-MODIFIED:20210503T005747Z
UID:10690-1624147200-1624406399@emlf.org
SUMMARY:42nd EMLF Annual Institute @ The Historic Peabody Hotel
DESCRIPTION:EMLF’s 42nd Annual Institute will be held June 20-22\, 2021\, at The Peabody Memphis in Memphis\, Tennessee. This annual summer conference is a two-day continuing legal education program. The sessions cover a wide variety of topical legal issues for energy and mineral law practitioners including commercial\, regulatory\, title\, labor and employment\, ethics\, litigation and practical skills\, risk management\, and others\, and usually includes a case law and market update. The Annual Institute attracts attorneys and energy professionals from all over the country to great destination locations and features a wide varieties of fun networking opportunities for attendees. \nReservations for Accommodations \nCut off date for reservations is May 18\, 2021
URL:https://emlf.org/event/42nd-emlf-annual-institute/
LOCATION:The Peabody Memphis\, 149 Union Avenue\, Memphis\, 38103\, United States
CATEGORIES:Conferences,Institutes & Symposiums
ATTACH;FMTTYPE=image/jpeg:https://emlf.org/wp-content/uploads/2021/03/AdobeStock_306223540-scaled.jpeg
END:VEVENT
END:VCALENDAR