
BEGIN:VCALENDAR
VERSION:2.0
PRODID:-//EMLF - ECPv6.15.20//NONSGML v1.0//EN
CALSCALE:GREGORIAN
METHOD:PUBLISH
X-WR-CALNAME:EMLF
X-ORIGINAL-URL:https://emlf.org
X-WR-CALDESC:Events for EMLF
REFRESH-INTERVAL;VALUE=DURATION:PT1H
X-Robots-Tag:noindex
X-PUBLISHED-TTL:PT1H
BEGIN:VTIMEZONE
TZID:America/Kentucky/Louisville
BEGIN:DAYLIGHT
TZOFFSETFROM:-0500
TZOFFSETTO:-0400
TZNAME:EDT
DTSTART:20250309T070000
END:DAYLIGHT
BEGIN:STANDARD
TZOFFSETFROM:-0400
TZOFFSETTO:-0500
TZNAME:EST
DTSTART:20251102T060000
END:STANDARD
BEGIN:DAYLIGHT
TZOFFSETFROM:-0500
TZOFFSETTO:-0400
TZNAME:EDT
DTSTART:20260308T070000
END:DAYLIGHT
BEGIN:STANDARD
TZOFFSETFROM:-0400
TZOFFSETTO:-0500
TZNAME:EST
DTSTART:20261101T060000
END:STANDARD
BEGIN:DAYLIGHT
TZOFFSETFROM:-0500
TZOFFSETTO:-0400
TZNAME:EDT
DTSTART:20270314T070000
END:DAYLIGHT
BEGIN:STANDARD
TZOFFSETFROM:-0400
TZOFFSETTO:-0500
TZNAME:EST
DTSTART:20271107T060000
END:STANDARD
END:VTIMEZONE
BEGIN:VEVENT
DTSTART;TZID=America/Kentucky/Louisville:20261013T080000
DTEND;TZID=America/Kentucky/Louisville:20261015T170000
DTSTAMP:20260422T185308
CREATED:20251216T222830Z
LAST-MODIFIED:20251219T195856Z
UID:36239-1791878400-1792083600@emlf.org
SUMMARY:Fall Symposium 2026
DESCRIPTION:The 2026 Fall Symposium will be held October 13-15\, 2026. Reserve your room today: \nOnline reservations: https://www.hyatt.com/events/en-US/group-booking/LEXRL/G-LAW2Tel: 800-233-1234 (Code G-LAW2)
URL:https://emlf.org/event/fall-symposium-2026/
LOCATION:Central Bank Center\, 430 W Vine St.\, Lexington\, KY\, 40507\, United States
CATEGORIES:2026,Conferences,Institutes & Symposiums,Oil & Gas
ATTACH;FMTTYPE=image/png:https://emlf.org/wp-content/uploads/2025/12/Screenshot-2025-12-16-at-10.46.51-PM-1.png
END:VEVENT
END:VCALENDAR