
BEGIN:VCALENDAR
VERSION:2.0
PRODID:-//EMLF - ECPv6.15.20//NONSGML v1.0//EN
CALSCALE:GREGORIAN
METHOD:PUBLISH
X-WR-CALNAME:EMLF
X-ORIGINAL-URL:https://emlf.org
X-WR-CALDESC:Events for EMLF
REFRESH-INTERVAL;VALUE=DURATION:PT1H
X-Robots-Tag:noindex
X-PUBLISHED-TTL:PT1H
BEGIN:VTIMEZONE
TZID:America/Kentucky/Louisville
BEGIN:DAYLIGHT
TZOFFSETFROM:-0500
TZOFFSETTO:-0400
TZNAME:EDT
DTSTART:20240310T070000
END:DAYLIGHT
BEGIN:STANDARD
TZOFFSETFROM:-0400
TZOFFSETTO:-0500
TZNAME:EST
DTSTART:20241103T060000
END:STANDARD
BEGIN:DAYLIGHT
TZOFFSETFROM:-0500
TZOFFSETTO:-0400
TZNAME:EDT
DTSTART:20250309T070000
END:DAYLIGHT
BEGIN:STANDARD
TZOFFSETFROM:-0400
TZOFFSETTO:-0500
TZNAME:EST
DTSTART:20251102T060000
END:STANDARD
BEGIN:DAYLIGHT
TZOFFSETFROM:-0500
TZOFFSETTO:-0400
TZNAME:EDT
DTSTART:20260308T070000
END:DAYLIGHT
BEGIN:STANDARD
TZOFFSETFROM:-0400
TZOFFSETTO:-0500
TZNAME:EST
DTSTART:20261101T060000
END:STANDARD
END:VTIMEZONE
BEGIN:VEVENT
DTSTART;TZID=America/Kentucky/Louisville:20251007T080000
DTEND;TZID=America/Kentucky/Louisville:20251009T170000
DTSTAMP:20260425T105727
CREATED:20250226T140546Z
LAST-MODIFIED:20250725T221644Z
UID:33221-1759824000-1760029200@emlf.org
SUMMARY:Fall Symposium
DESCRIPTION:Reserve Your Room for the Fall SymposiumJoin us for an inspiring experience filled with knowledge and networking opportunities. Secure your spot today and be part of the conversation that shapes the future. \n				Book Now\n			\n			\n				\n				\n				\n				\n				\n				\n				\n				\n				\n				To book by phone: Call 800.233.1234 and ask for Code G-LAWE.
URL:https://emlf.org/event/fall-symposium-3/
LOCATION:Central Bank Center\, 430 W Vine St.\, Lexington\, KY\, 40507\, United States
CATEGORIES:2025,Institutes & Symposiums,Oil & Gas
ATTACH;FMTTYPE=image/jpeg:https://emlf.org/wp-content/uploads/2025/02/Fall-Symposium1-1.jpg
ORGANIZER;CN="Energy & Mineral Law Foundation":MAILTO:dawn@emlf.org
END:VEVENT
END:VCALENDAR